BEGIN:VCALENDAR
VERSION:2.0
PRODID:-// - ECPv6.15.20//NONSGML v1.0//EN
CALSCALE:GREGORIAN
METHOD:PUBLISH
X-ORIGINAL-URL:https://www.megthetherapist.com
X-WR-CALDESC:Events for 
REFRESH-INTERVAL;VALUE=DURATION:PT1H
X-Robots-Tag:noindex
X-PUBLISHED-TTL:PT1H
BEGIN:VTIMEZONE
TZID:America/New_York
BEGIN:DAYLIGHT
TZOFFSETFROM:-0500
TZOFFSETTO:-0400
TZNAME:EDT
DTSTART:20250309T070000
END:DAYLIGHT
BEGIN:STANDARD
TZOFFSETFROM:-0400
TZOFFSETTO:-0500
TZNAME:EST
DTSTART:20251102T060000
END:STANDARD
BEGIN:DAYLIGHT
TZOFFSETFROM:-0500
TZOFFSETTO:-0400
TZNAME:EDT
DTSTART:20260308T070000
END:DAYLIGHT
BEGIN:STANDARD
TZOFFSETFROM:-0400
TZOFFSETTO:-0500
TZNAME:EST
DTSTART:20261101T060000
END:STANDARD
BEGIN:DAYLIGHT
TZOFFSETFROM:-0500
TZOFFSETTO:-0400
TZNAME:EDT
DTSTART:20270314T070000
END:DAYLIGHT
BEGIN:STANDARD
TZOFFSETFROM:-0400
TZOFFSETTO:-0500
TZNAME:EST
DTSTART:20271107T060000
END:STANDARD
END:VTIMEZONE
BEGIN:VEVENT
DTSTART;TZID=America/New_York:20260420T130000
DTEND;TZID=America/New_York:20260420T160000
DTSTAMP:20260420T022002
CREATED:20260414T030019Z
LAST-MODIFIED:20260414T030703Z
UID:525-1776690000-1776700800@www.megthetherapist.com
SUMMARY:Root & Rise
DESCRIPTION:ROOT & RISE CAMP is COMING NEXT WEEK!  \n2-Day Mind + Body Glow-Up \n4/20 & 4/22 | 1–4PM | The Zen Loft \nWe still have some spots left. If you would like your daughter to attend and the financial piece is holding you back\, \nemail Meg@MegTheTherapist.com\, \nwe have held a couple of spots open\, because\, we all struggle! \nIf you have signed up\, a “getting to know her” email will be out to you soon! \n2-Day Mind + Body Glow-Up \n4/20 & 4/22 | 1–4PM | The Zen Loft \n✨ MONDAY — WE ROOT \n👑 Own the Crown + Connect Games- We start where we end\, HAVING THE MOST FUN! Laughter\, mandatory. \n💫 Who am I? + New Friend Energy w/Meg The Therapist & friends \n🧠 Real-Life Tools for Big Feelings\, and How To Slay The Day \n👀 Confidence Quickies (eye contact\, presence\, body awareness (& kindness) \n💇‍♀️ Hair Tips + Styling with @kenz.razouxco \n🧘‍♀️ Yoga + Mindfulness Reset \n✨ WEDNESDAY — WE RISE \n💃 Good Morning Vibe Dance Party w/Liz of LC Beauty & Healing @lcbeauty__1212 \n✨ Energy Healing + All the FEELING! Dive into our emotions and become the master of them! w/Joleen\, our own High Vibe Energy Guide & Meg \n🗣️ Communication Skills for now\, and forever! (friends\, boys\, parents) W/Meg \n💞 Confidence + Connection Challenges with Joleen @joleen13 \n💄 Health + Beauty Fun with Aesthetician Liz \n🌿 Yoga + Closing Circle \n💥 What they’ll gain: \nConfidence. Connection. Communication. \nTools they’ll carry for LIFE. \nEmail Meg@MegTheTherapist.com with any questions!
URL:https://www.megthetherapist.com/event/root-rise/
LOCATION:The Zen Loft\, 1355 Pleasant St\, Bridgewater\, MA\, 02324\, United States
ATTACH;FMTTYPE=image/jpeg:https://www.megthetherapist.com/wp-content/uploads/2026/04/IMG_2537.jpeg
ORGANIZER;CN="Megan Anderson":MAILTO:service@megthetherapist.com
END:VEVENT
END:VCALENDAR